BEGIN:VCALENDAR
VERSION:2.0
PRODID:icalendar-ruby
CALSCALE:GREGORIAN
METHOD:PUBLISH
BEGIN:VEVENT
DTSTAMP:20260421T154931Z
UID:4eaf69f3-968b-415a-8316-5ccf612cab57
DTSTART:20260519T120000
DTEND:20260519T130000
LOCATION:virtual
SUMMARY:CCE Clinical Trials and Translational Research Session
END:VEVENT
END:VCALENDAR
