BEGIN:VCALENDAR
VERSION:2.0
PRODID:icalendar-ruby
CALSCALE:GREGORIAN
METHOD:PUBLISH
BEGIN:VEVENT
DTSTAMP:20260419T150416Z
UID:1e48abb8-e797-4cb3-b328-bd1b944d773d
DTSTART:20260420T150000
DTEND:20260420T160000
LOCATION:virtual
SUMMARY:From omics to clinical decision-making: advancing precision medicin
 e in head and neck oncology
END:VEVENT
END:VCALENDAR
