BEGIN:VCALENDAR
VERSION:2.0
PRODID:icalendar-ruby
CALSCALE:GREGORIAN
METHOD:PUBLISH
BEGIN:VEVENT
DTSTAMP:20260421T154727Z
UID:8d5cfdf7-a103-4b97-a2ec-002af34984df
DTSTART:20260424T100000
DTEND:20260424T113000
LOCATION:Zoom
SUMMARY:S.Lang: AI-Driven ECG Classification: Insights from Patient and Ath
 lete Populations
END:VEVENT
END:VCALENDAR
